BEGIN:VCALENDAR
VERSION:2.0
PRODID:icalendar-ruby
CALSCALE:GREGORIAN
METHOD:PUBLISH
BEGIN:VEVENT
DTSTAMP:20260422T095522Z
UID:2e3fb847-737c-4b71-bbd5-0dd1426bcd99
DTSTART;VALUE=DATE:20130813
DTEND;VALUE=DATE:20130813
DESCRIPTION:Charlie`s BMX Track\, Inc.
LOCATION:4400 1/2 Dutch Hollow Rd  Ellery Center NY 14767 USA
SUMMARY:Race for Life Single
URL:/site/bmx_races/60009
END:VEVENT
END:VCALENDAR
