BEGIN:VCALENDAR
VERSION:2.0
PRODID:icalendar-ruby
CALSCALE:GREGORIAN
METHOD:PUBLISH
BEGIN:VEVENT
DTSTAMP:20260425T120826Z
UID:3d75e08c-1fc7-4836-b10d-1f355eaaa027
DTSTART;VALUE=DATE:20130823
DTEND;VALUE=DATE:20130823
DESCRIPTION:Pearland BMX
LOCATION:5657 Morning Dove Ln  Alvin TX 77511 USA
SUMMARY:Local Race Single
URL:/site/bmx_races/60647
END:VEVENT
END:VCALENDAR
