BEGIN:VCALENDAR
VERSION:2.0
PRODID:icalendar-ruby
CALSCALE:GREGORIAN
METHOD:PUBLISH
BEGIN:VEVENT
DTSTAMP:20260424T174558Z
UID:dfe56ec7-f350-47c4-8f69-9d6fa08c544d
DTSTART;VALUE=DATE:20130814
DTEND;VALUE=DATE:20130814
DESCRIPTION:Sports Park BMX
LOCATION:6901 N Casa Grande Highway  Tucson AZ 85743 USA
SUMMARY:Practice
URL:/site/bmx_races/60900
END:VEVENT
END:VCALENDAR
