BEGIN:VCALENDAR
VERSION:2.0
PRODID:icalendar-ruby
CALSCALE:GREGORIAN
METHOD:PUBLISH
BEGIN:VEVENT
DTSTAMP:20260423T070124Z
UID:a33e06f0-8477-4b5a-83f9-f7200d4577ad
DTSTART;VALUE=DATE:20130813
DTEND;VALUE=DATE:20130813
DESCRIPTION:Mag Ridge BMX Park
LOCATION:344 Oldtown Crossing  Ridgeland MS 39157 USA
SUMMARY:Practice
URL:/site/bmx_races/61051
END:VEVENT
END:VCALENDAR
