BEGIN:VCALENDAR
VERSION:2.0
PRODID:icalendar-ruby
CALSCALE:GREGORIAN
METHOD:PUBLISH
BEGIN:VEVENT
DTSTAMP:20260422T070748Z
UID:646f722f-f80b-4800-be62-3805747f8fbb
DTSTART;VALUE=DATE:20130720
DTEND;VALUE=DATE:20130720
DESCRIPTION:Reno Battleborn BMX
LOCATION:Sun Valley Gid Community Park 115 W 6th Ave Sun Valley NV 89433 US
 A
SUMMARY:State Race Double
URL:/site/bmx_races/61160
END:VEVENT
END:VCALENDAR
