BEGIN:VCALENDAR
VERSION:2.0
PRODID:icalendar-ruby
CALSCALE:GREGORIAN
METHOD:PUBLISH
BEGIN:VEVENT
DTSTAMP:20260421T021853Z
UID:f3af65f3-8750-46a7-9f35-29a968326e80
DTSTART;VALUE=DATE:20130707
DTEND;VALUE=DATE:20130707
DESCRIPTION:Oak Creek BMX
LOCATION:648 Riverside Ave  Roseville CA 95678 USA
SUMMARY:Local Race Single
URL:/site/bmx_races/61184
END:VEVENT
END:VCALENDAR
