BEGIN:VCALENDAR
VERSION:2.0
PRODID:icalendar-ruby
CALSCALE:GREGORIAN
METHOD:PUBLISH
BEGIN:VEVENT
DTSTAMP:20260421T003728Z
UID:12718abf-64ae-449a-b419-4461f918e2bb
DTSTART;VALUE=DATE:20130822
DTEND;VALUE=DATE:20130822
DESCRIPTION:Oak Creek BMX
LOCATION:648 Riverside Ave  Roseville CA 95678 USA
SUMMARY:Practice
URL:/site/bmx_races/61199
END:VEVENT
END:VCALENDAR
