BEGIN:VCALENDAR
VERSION:2.0
PRODID:icalendar-ruby
CALSCALE:GREGORIAN
METHOD:PUBLISH
BEGIN:VEVENT
DTSTAMP:20260420T192801Z
UID:93890cfa-15ab-4b6d-9012-d0a573080961
DTSTART;VALUE=DATE:20131114
DTEND;VALUE=DATE:20131114
DESCRIPTION:Oak Creek BMX
LOCATION:648 Riverside Ave  Roseville CA 95678 USA
SUMMARY:Practice
URL:/site/bmx_races/61211
END:VEVENT
END:VCALENDAR
