BEGIN:VCALENDAR
VERSION:2.0
PRODID:icalendar-ruby
CALSCALE:GREGORIAN
METHOD:PUBLISH
BEGIN:VEVENT
DTSTAMP:20260420T174522Z
UID:b3d35895-279d-4c60-826d-281ab388d18d
DTSTART;VALUE=DATE:20131212
DTEND;VALUE=DATE:20131212
DESCRIPTION:Oak Creek BMX
LOCATION:648 Riverside Ave  Roseville CA 95678 USA
SUMMARY:Practice
URL:/site/bmx_races/61215
END:VEVENT
END:VCALENDAR
