BEGIN:VCALENDAR
VERSION:2.0
PRODID:icalendar-ruby
CALSCALE:GREGORIAN
METHOD:PUBLISH
BEGIN:VEVENT
DTSTAMP:20260419T170651Z
UID:4655a8c9-e254-4b98-a48c-427d35438faa
DTSTART;VALUE=DATE:20130801
DTEND;VALUE=DATE:20130801
DESCRIPTION:Drake Well BMX
LOCATION:516 Allen St  Titusville PA 16354 USA
SUMMARY:Warnicke Double
URL:/site/bmx_races/61827
END:VEVENT
END:VCALENDAR
