BEGIN:VCALENDAR
VERSION:2.0
PRODID:icalendar-ruby
CALSCALE:GREGORIAN
METHOD:PUBLISH
BEGIN:VEVENT
DTSTAMP:20260424T135318Z
UID:e09d1c7f-519d-41f9-b46e-46efb824d5c8
DTSTART;VALUE=DATE:20130812
DTEND;VALUE=DATE:20130812
DESCRIPTION:Daytona BMX
LOCATION:1670 Strickland Range Rd  Holly Hill FL 32117 USA
SUMMARY:Practice
URL:/site/bmx_races/61904
END:VEVENT
END:VCALENDAR
