BEGIN:VCALENDAR
VERSION:2.0
PRODID:icalendar-ruby
CALSCALE:GREGORIAN
METHOD:PUBLISH
BEGIN:VEVENT
DTSTAMP:20260424T135357Z
UID:6085e6d0-89da-4ad6-abdf-140609369bcd
DTSTART;VALUE=DATE:20130819
DTEND;VALUE=DATE:20130819
DESCRIPTION:Daytona BMX
LOCATION:1670 Strickland Range Rd  Holly Hill FL 32117 USA
SUMMARY:Practice
URL:/site/bmx_races/61905
END:VEVENT
END:VCALENDAR
