BEGIN:VCALENDAR
VERSION:2.0
PRODID:icalendar-ruby
CALSCALE:GREGORIAN
METHOD:PUBLISH
BEGIN:VEVENT
DTSTAMP:20260424T122247Z
UID:802d3cf3-789c-4633-95b2-68a822032228
DTSTART;VALUE=DATE:20130909
DTEND;VALUE=DATE:20130909
DESCRIPTION:Daytona BMX
LOCATION:1670 Strickland Range Rd  Holly Hill FL 32117 USA
SUMMARY:Practice
URL:/site/bmx_races/61908
END:VEVENT
END:VCALENDAR
