BEGIN:VCALENDAR
VERSION:2.0
PRODID:icalendar-ruby
CALSCALE:GREGORIAN
METHOD:PUBLISH
BEGIN:VEVENT
DTSTAMP:20260424T122322Z
UID:584722de-9fe0-4157-9cc2-2c4918c89486
DTSTART;VALUE=DATE:20130904
DTEND;VALUE=DATE:20130904
DESCRIPTION:Daytona BMX
LOCATION:1670 Strickland Range Rd  Holly Hill FL 32117 USA
SUMMARY:Local Race Single
URL:/site/bmx_races/61930
END:VEVENT
END:VCALENDAR
