BEGIN:VCALENDAR
VERSION:2.0
PRODID:icalendar-ruby
CALSCALE:GREGORIAN
METHOD:PUBLISH
BEGIN:VEVENT
DTSTAMP:20260424T122323Z
UID:aa1a576e-401c-45dd-bd14-9e233927c6fc
DTSTART;VALUE=DATE:20130918
DTEND;VALUE=DATE:20130918
DESCRIPTION:Daytona BMX
LOCATION:1670 Strickland Range Rd  Holly Hill FL 32117 USA
SUMMARY:Local Race Single
URL:/site/bmx_races/61932
END:VEVENT
END:VCALENDAR
