BEGIN:VCALENDAR
VERSION:2.0
PRODID:icalendar-ruby
CALSCALE:GREGORIAN
METHOD:PUBLISH
BEGIN:VEVENT
DTSTAMP:20260424T092025Z
UID:f452d2b9-e8e1-4a7a-a770-d14ae1e7c96a
DTSTART;VALUE=DATE:20131116
DTEND;VALUE=DATE:20131116
DESCRIPTION:Daytona BMX
LOCATION:1670 Strickland Range Rd  Holly Hill FL 32117 USA
SUMMARY:Local Race Single
URL:/site/bmx_races/61962
END:VEVENT
END:VCALENDAR
