BEGIN:VCALENDAR
VERSION:2.0
PRODID:icalendar-ruby
CALSCALE:GREGORIAN
METHOD:PUBLISH
BEGIN:VEVENT
DTSTAMP:20260421T003635Z
UID:a64c567f-77e9-4a99-ba5e-baa7b281c665
DTSTART;VALUE=DATE:20131005
DTEND;VALUE=DATE:20131005
DESCRIPTION:Wee-Chi-Tah BMX
LOCATION:404 Burkburnett Rd   WICHITA FALLS TX 76306 USA
SUMMARY:Local Race Single
URL:/site/bmx_races/62356
END:VEVENT
END:VCALENDAR
