BEGIN:VCALENDAR
VERSION:2.0
PRODID:icalendar-ruby
CALSCALE:GREGORIAN
METHOD:PUBLISH
BEGIN:VEVENT
DTSTAMP:20260421T184342Z
UID:271fd01f-041f-4ac5-aa1c-d81bec444ede
DTSTART;VALUE=DATE:20131012
DTEND;VALUE=DATE:20131012
DESCRIPTION:Colorado River BMX
LOCATION:2230 Highland Dr  Bullhead City AZ 86442 USA
SUMMARY:Warnicke Single
URL:/site/bmx_races/62802
END:VEVENT
END:VCALENDAR
