BEGIN:VCALENDAR
VERSION:2.0
PRODID:icalendar-ruby
CALSCALE:GREGORIAN
METHOD:PUBLISH
BEGIN:VEVENT
DTSTAMP:20260426T035847Z
UID:b8e54a79-bed2-4666-bf71-e414d3241d92
DTSTART;VALUE=DATE:20131016
DTEND;VALUE=DATE:20131016
DESCRIPTION:Rad Canyon BMX
LOCATION:5200 W 9800 S  West Jordan UT 84081 USA
SUMMARY:Practice
URL:/site/bmx_races/63626
END:VEVENT
END:VCALENDAR
