BEGIN:VCALENDAR
VERSION:2.0
PRODID:icalendar-ruby
CALSCALE:GREGORIAN
METHOD:PUBLISH
BEGIN:VEVENT
DTSTAMP:20260426T035819Z
UID:06ea618d-df6c-4601-9436-adb441be9fa7
DTSTART;VALUE=DATE:20131020
DTEND;VALUE=DATE:20131020
DESCRIPTION:Rad Canyon BMX
LOCATION:5200 W 9800 S  West Jordan UT 84081 USA
SUMMARY:Local Race Single
URL:/site/bmx_races/63630
END:VEVENT
END:VCALENDAR
