BEGIN:VCALENDAR
VERSION:2.0
PRODID:icalendar-ruby
CALSCALE:GREGORIAN
METHOD:PUBLISH
BEGIN:VEVENT
DTSTAMP:20260420T130028Z
UID:03f0dab2-a405-4a91-b9e7-8532f0c72971
DTSTART;VALUE=DATE:20140320
DTEND;VALUE=DATE:20140320
DESCRIPTION:Oak Creek BMX
LOCATION:648 Riverside Ave  Roseville CA 95678 USA
SUMMARY:Practice
URL:/site/bmx_races/64290
END:VEVENT
END:VCALENDAR
