BEGIN:VCALENDAR
VERSION:2.0
PRODID:icalendar-ruby
CALSCALE:GREGORIAN
METHOD:PUBLISH
BEGIN:VEVENT
DTSTAMP:20260419T182505Z
UID:ea80fbe5-993c-4bda-82c4-9d838fe99227
DTSTART;VALUE=DATE:20140307
DTEND;VALUE=DATE:20140307
DESCRIPTION:Santa Maria BMX
LOCATION:4040 Highway 101  Santa Maria CA 93455 USA
SUMMARY:Local Race Single
URL:/site/bmx_races/64711
END:VEVENT
END:VCALENDAR
