BEGIN:VCALENDAR
VERSION:2.0
PRODID:icalendar-ruby
CALSCALE:GREGORIAN
METHOD:PUBLISH
BEGIN:VEVENT
DTSTAMP:20260425T185713Z
UID:a772130a-d503-42c8-9e53-fbad2fd9ee4d
DTSTART;VALUE=DATE:20140122
DTEND;VALUE=DATE:20140122
DESCRIPTION:Peninsula Indoor BMX
LOCATION:5867 Dogwood Road Se  Port Orchard WA 98367 USA
SUMMARY:Practice
URL:/site/bmx_races/64895
END:VEVENT
END:VCALENDAR
