BEGIN:VCALENDAR
VERSION:2.0
PRODID:icalendar-ruby
CALSCALE:GREGORIAN
METHOD:PUBLISH
BEGIN:VEVENT
DTSTAMP:20260425T172511Z
UID:62db662d-a831-4e4a-9629-9fd2f6f3713d
DTSTART;VALUE=DATE:20140207
DTEND;VALUE=DATE:20140207
DESCRIPTION:Peninsula Indoor BMX
LOCATION:5867 Dogwood Road Se  Port Orchard WA 98367 USA
SUMMARY:Local Race Single
URL:/site/bmx_races/64904
END:VEVENT
END:VCALENDAR
