BEGIN:VCALENDAR
VERSION:2.0
PRODID:icalendar-ruby
CALSCALE:GREGORIAN
METHOD:PUBLISH
BEGIN:VEVENT
DTSTAMP:20260425T142902Z
UID:6f7d29b0-ac1b-4f70-9a84-f11688c60095
DTSTART;VALUE=DATE:20140409
DTEND;VALUE=DATE:20140409
DESCRIPTION:Peninsula Indoor BMX
LOCATION:5867 Dogwood Road Se  Port Orchard WA 98367 USA
SUMMARY:Practice
URL:/site/bmx_races/64933
END:VEVENT
END:VCALENDAR
