BEGIN:VCALENDAR
VERSION:2.0
PRODID:icalendar-ruby
CALSCALE:GREGORIAN
METHOD:PUBLISH
BEGIN:VEVENT
DTSTAMP:20260421T190528Z
UID:d71a6f74-4549-432a-bf2d-11a5e6d2524c
DTSTART;VALUE=DATE:20140518
DTEND;VALUE=DATE:20140518
DESCRIPTION:Westerville BMX
LOCATION:535 Park Meadow Road  Westerville OH 43081 USA
SUMMARY:Local Race Single
URL:/site/bmx_races/65154
END:VEVENT
END:VCALENDAR
