BEGIN:VCALENDAR
VERSION:2.0
PRODID:icalendar-ruby
CALSCALE:GREGORIAN
METHOD:PUBLISH
BEGIN:VEVENT
DTSTAMP:20260423T090805Z
UID:98e7c075-458b-4f83-bb11-0388399a5a36
DTSTART;VALUE=DATE:20140501
DTEND;VALUE=DATE:20140501
DESCRIPTION:Lexington BMX
LOCATION:1159 Nazareth Road  Lexington SC 29073 USA
SUMMARY:Practice
URL:/site/bmx_races/67151
END:VEVENT
END:VCALENDAR
