BEGIN:VCALENDAR
VERSION:2.0
PRODID:icalendar-ruby
CALSCALE:GREGORIAN
METHOD:PUBLISH
BEGIN:VEVENT
DTSTAMP:20260423T020915Z
UID:d08db0c8-4517-4a17-85d2-23098948ff50
DTSTART;VALUE=DATE:20140911
DTEND;VALUE=DATE:20140911
DESCRIPTION:Lexington BMX
LOCATION:1159 Nazareth Road  Lexington SC 29073 USA
SUMMARY:Practice
URL:/site/bmx_races/67170
END:VEVENT
END:VCALENDAR
