BEGIN:VCALENDAR
VERSION:2.0
PRODID:icalendar-ruby
CALSCALE:GREGORIAN
METHOD:PUBLISH
BEGIN:VEVENT
DTSTAMP:20260423T103630Z
UID:ba4a9a86-af3f-4f5b-b34f-2af53de68d90
DTSTART;VALUE=DATE:20140412
DTEND;VALUE=DATE:20140412
DESCRIPTION:Lexington BMX
LOCATION:1159 Nazareth Road  Lexington SC 29073 USA
SUMMARY:Local Race Single
URL:/site/bmx_races/67338
END:VEVENT
END:VCALENDAR
