BEGIN:VCALENDAR
VERSION:2.0
PRODID:icalendar-ruby
CALSCALE:GREGORIAN
METHOD:PUBLISH
BEGIN:VEVENT
DTSTAMP:20260424T142419Z
UID:dadb2c9c-c9ba-4f57-9fa6-cf5427e8ba76
DTSTART;VALUE=DATE:20140502
DTEND;VALUE=DATE:20140502
DESCRIPTION:Whip City BMX
LOCATION:137 Russellville Road Westfield  Westfield MA 1085 USA
SUMMARY:Local Race Single
URL:/site/bmx_races/67358
END:VEVENT
END:VCALENDAR
