BEGIN:VCALENDAR
VERSION:2.0
PRODID:icalendar-ruby
CALSCALE:GREGORIAN
METHOD:PUBLISH
BEGIN:VEVENT
DTSTAMP:20260425T140119Z
UID:83cabe36-f087-4cea-a4a2-481ac9f1089f
DTSTART;VALUE=DATE:20140717
DTEND;VALUE=DATE:20140717
DESCRIPTION:Rad Canyon BMX
LOCATION:5200 W 9800 S  West Jordan UT 84081 USA
SUMMARY:Local Race Single
URL:/site/bmx_races/68432
END:VEVENT
END:VCALENDAR
