BEGIN:VCALENDAR
VERSION:2.0
PRODID:icalendar-ruby
CALSCALE:GREGORIAN
METHOD:PUBLISH
BEGIN:VEVENT
DTSTAMP:20260425T140118Z
UID:22162a16-c310-49b4-aea6-321ede3aa926
DTSTART;VALUE=DATE:20140731
DTEND;VALUE=DATE:20140731
DESCRIPTION:Rad Canyon BMX
LOCATION:5200 W 9800 S  West Jordan UT 84081 USA
SUMMARY:Local Race Single
URL:/site/bmx_races/68436
END:VEVENT
END:VCALENDAR
