BEGIN:VCALENDAR
VERSION:2.0
PRODID:icalendar-ruby
CALSCALE:GREGORIAN
METHOD:PUBLISH
BEGIN:VEVENT
DTSTAMP:20260424T094633Z
UID:203d06e9-de8f-4a3d-a3fa-10fb20b77744
DTSTART;VALUE=DATE:20140530
DTEND;VALUE=DATE:20140530
DESCRIPTION:Peachtree BMX
LOCATION:195 Mc Intosh Trail  Peachtree City GA 30269 USA
SUMMARY:Local Race Single
URL:/site/bmx_races/68510
END:VEVENT
END:VCALENDAR
