BEGIN:VCALENDAR
VERSION:2.0
PRODID:icalendar-ruby
CALSCALE:GREGORIAN
METHOD:PUBLISH
BEGIN:VEVENT
DTSTAMP:20260423T051353Z
UID:fc229b39-cb87-452c-86c6-48e065cdab3b
DTSTART;VALUE=DATE:20140816
DTEND;VALUE=DATE:20140816
DESCRIPTION:Fort Wayne BMX
LOCATION:3411 Sherman Blvd  Fort Wayne IN 46808 USA
SUMMARY:State Race Double
URL:/site/bmx_races/68704
END:VEVENT
END:VCALENDAR
