BEGIN:VCALENDAR
VERSION:2.0
PRODID:icalendar-ruby
CALSCALE:GREGORIAN
METHOD:PUBLISH
BEGIN:VEVENT
DTSTAMP:20260422T230855Z
UID:efbfd0fe-3ecc-482b-8040-8b770c82d3c8
DTSTART;VALUE=DATE:20140630
DTEND;VALUE=DATE:20140630
DESCRIPTION:Cross Creek BMX
LOCATION:8115 Parkglen Dr.  Fountain CO 80817 USA
SUMMARY:Local Race Single
URL:/site/bmx_races/69945
END:VEVENT
END:VCALENDAR
