BEGIN:VCALENDAR
VERSION:2.0
PRODID:icalendar-ruby
CALSCALE:GREGORIAN
METHOD:PUBLISH
BEGIN:VEVENT
DTSTAMP:20260423T234427Z
UID:8cd9251b-81e1-49ac-ae2a-b4d94615bb82
DTSTART;VALUE=DATE:20140620
DTEND;VALUE=DATE:20140620
DESCRIPTION:Santa Maria BMX
LOCATION:4040 Highway 101  Santa Maria CA 93455 USA
SUMMARY:Local Race Single
URL:/site/bmx_races/70000
END:VEVENT
END:VCALENDAR
