BEGIN:VCALENDAR
VERSION:2.0
PRODID:icalendar-ruby
CALSCALE:GREGORIAN
METHOD:PUBLISH
BEGIN:VEVENT
DTSTAMP:20260424T161227Z
UID:a2c36884-d622-4ffc-8e55-dcc2f4beedf7
DTSTART;VALUE=DATE:20140614
DTEND;VALUE=DATE:20140614
DESCRIPTION:Hampton BMX
LOCATION:901 E Littleback River Rd  Hampton VA 23669 USA
SUMMARY:Local Race Single
URL:/site/bmx_races/70144
END:VEVENT
END:VCALENDAR
