BEGIN:VCALENDAR
VERSION:2.0
PRODID:icalendar-ruby
CALSCALE:GREGORIAN
METHOD:PUBLISH
BEGIN:VEVENT
DTSTAMP:20260419T181245Z
UID:b8c5cb7b-122c-4331-a43a-47838dbb8e8d
DTSTART;VALUE=DATE:20140720
DTEND;VALUE=DATE:20140720
DESCRIPTION:Can Am BMX
LOCATION:8345 County Park Rd  Goodells MI 48027 USA
SUMMARY:State Race Double
URL:/site/bmx_races/70205
END:VEVENT
END:VCALENDAR
