BEGIN:VCALENDAR
VERSION:2.0
PRODID:icalendar-ruby
CALSCALE:GREGORIAN
METHOD:PUBLISH
BEGIN:VEVENT
DTSTAMP:20260420T192917Z
UID:c058a84c-cf65-4be0-a7ca-dbba9e609bfb
DTSTART;VALUE=DATE:20140118
DTEND;VALUE=DATE:20140118
DESCRIPTION:Wee-Chi-Tah BMX
LOCATION:404 Burkburnett Rd   WICHITA FALLS TX 76306 USA
SUMMARY:Local Race Single
URL:/site/bmx_races/70492
END:VEVENT
END:VCALENDAR
