BEGIN:VCALENDAR
VERSION:2.0
PRODID:icalendar-ruby
CALSCALE:GREGORIAN
METHOD:PUBLISH
BEGIN:VEVENT
DTSTAMP:20260420T130039Z
UID:d728ceec-ef93-40d2-a159-f21122e11d9e
DTSTART;VALUE=DATE:20140510
DTEND;VALUE=DATE:20140510
DESCRIPTION:Wee-Chi-Tah BMX
LOCATION:404 Burkburnett Rd   WICHITA FALLS TX 76306 USA
SUMMARY:Local Race Single
URL:/site/bmx_races/70508
END:VEVENT
END:VCALENDAR
