BEGIN:VCALENDAR
VERSION:2.0
PRODID:icalendar-ruby
CALSCALE:GREGORIAN
METHOD:PUBLISH
BEGIN:VEVENT
DTSTAMP:20260420T094853Z
UID:757301f2-1c76-4736-97da-cf4139116891
DTSTART;VALUE=DATE:20140726
DTEND;VALUE=DATE:20140726
DESCRIPTION:Wee-Chi-Tah BMX
LOCATION:404 Burkburnett Rd   WICHITA FALLS TX 76306 USA
SUMMARY:Local Race Single
URL:/site/bmx_races/70519
END:VEVENT
END:VCALENDAR
