BEGIN:VCALENDAR
VERSION:2.0
PRODID:icalendar-ruby
CALSCALE:GREGORIAN
METHOD:PUBLISH
BEGIN:VEVENT
DTSTAMP:20260425T214424Z
UID:ec0d9a79-75ab-4ad7-8334-5c2c745df89d
DTSTART;VALUE=DATE:20131118
DTEND;VALUE=DATE:20131118
DESCRIPTION:Peninsula Indoor BMX
LOCATION:5867 Dogwood Road Se  Port Orchard WA 98367 USA
SUMMARY:Track Rental
URL:/site/bmx_races/70683
END:VEVENT
END:VCALENDAR
