BEGIN:VCALENDAR
VERSION:2.0
PRODID:icalendar-ruby
CALSCALE:GREGORIAN
METHOD:PUBLISH
BEGIN:VEVENT
DTSTAMP:20260422T194300Z
UID:5dd1e778-2fe1-4751-a20f-d0415a6a8945
DTSTART;VALUE=DATE:20140302
DTEND;VALUE=DATE:20140302
DESCRIPTION:Mag Ridge BMX Park
LOCATION:344 Oldtown Crossing  Ridgeland MS 39157 USA
SUMMARY:Local Race Single
URL:/site/bmx_races/71323
END:VEVENT
END:VCALENDAR
