BEGIN:VCALENDAR
VERSION:2.0
PRODID:icalendar-ruby
CALSCALE:GREGORIAN
METHOD:PUBLISH
BEGIN:VEVENT
DTSTAMP:20260423T232650Z
UID:b7a5886a-c7bd-45b2-8938-bb3b17f218b3
DTSTART;VALUE=DATE:20140311
DTEND;VALUE=DATE:20140311
DESCRIPTION:Sand Springs BMX
LOCATION:2600 S River City Park Rd  Sand Springs OK 74063 USA
SUMMARY:Practice
URL:/site/bmx_races/72337
END:VEVENT
END:VCALENDAR
