BEGIN:VCALENDAR
VERSION:2.0
PRODID:icalendar-ruby
CALSCALE:GREGORIAN
METHOD:PUBLISH
BEGIN:VEVENT
DTSTAMP:20260423T232649Z
UID:682a3a94-c3de-48cf-aa91-cad738a4ac0d
DTSTART;VALUE=DATE:20140327
DTEND;VALUE=DATE:20140327
DESCRIPTION:Sand Springs BMX
LOCATION:2600 S River City Park Rd  Sand Springs OK 74063 USA
SUMMARY:Local Race Single
URL:/site/bmx_races/72342
END:VEVENT
END:VCALENDAR
