BEGIN:VCALENDAR
VERSION:2.0
PRODID:icalendar-ruby
CALSCALE:GREGORIAN
METHOD:PUBLISH
BEGIN:VEVENT
DTSTAMP:20260423T190715Z
UID:52dbc555-66d8-41c8-b5c9-e0302e870bf8
DTSTART;VALUE=DATE:20140617
DTEND;VALUE=DATE:20140617
DESCRIPTION:Sand Springs BMX
LOCATION:2600 S River City Park Rd  Sand Springs OK 74063 USA
SUMMARY:Practice
URL:/site/bmx_races/72365
END:VEVENT
END:VCALENDAR
