BEGIN:VCALENDAR
VERSION:2.0
PRODID:icalendar-ruby
CALSCALE:GREGORIAN
METHOD:PUBLISH
BEGIN:VEVENT
DTSTAMP:20260424T062440Z
UID:44508904-4232-468d-a9bb-f564919023a4
DTSTART;VALUE=DATE:20140127
DTEND;VALUE=DATE:20140127
DESCRIPTION:Daytona BMX
LOCATION:1670 Strickland Range Rd  Holly Hill FL 32117 USA
SUMMARY:Practice
URL:/site/bmx_races/72419
END:VEVENT
END:VCALENDAR
