BEGIN:VCALENDAR
VERSION:2.0
PRODID:icalendar-ruby
CALSCALE:GREGORIAN
METHOD:PUBLISH
BEGIN:VEVENT
DTSTAMP:20260423T184519Z
UID:2ad77078-db8e-420e-93e0-be28845ead54
DTSTART;VALUE=DATE:20140908
DTEND;VALUE=DATE:20140908
DESCRIPTION:Daytona BMX
LOCATION:1670 Strickland Range Rd  Holly Hill FL 32117 USA
SUMMARY:Practice
URL:/site/bmx_races/72451
END:VEVENT
END:VCALENDAR
