BEGIN:VCALENDAR
VERSION:2.0
PRODID:icalendar-ruby
CALSCALE:GREGORIAN
METHOD:PUBLISH
BEGIN:VEVENT
DTSTAMP:20260424T050154Z
UID:61d4092b-2bba-4a23-954a-c8b695b541f3
DTSTART;VALUE=DATE:20140208
DTEND;VALUE=DATE:20140208
DESCRIPTION:Daytona BMX
LOCATION:1670 Strickland Range Rd  Holly Hill FL 32117 USA
SUMMARY:Local Race Single
URL:/site/bmx_races/72473
END:VEVENT
END:VCALENDAR
