BEGIN:VCALENDAR
VERSION:2.0
PRODID:icalendar-ruby
CALSCALE:GREGORIAN
METHOD:PUBLISH
BEGIN:VEVENT
DTSTAMP:20260423T184519Z
UID:66d2e2a9-93a8-4510-b491-c5803237ebb1
DTSTART;VALUE=DATE:20140927
DTEND;VALUE=DATE:20140927
DESCRIPTION:Daytona BMX
LOCATION:1670 Strickland Range Rd  Holly Hill FL 32117 USA
SUMMARY:Local Race Single
URL:/site/bmx_races/72506
END:VEVENT
END:VCALENDAR
